{"text_format":"1","workbook":"xlsx","n_sheets":3,"sheets":["Inputs","Outputs","Storage Data"],"not_rendered":{"charts":0,"images":1,"macros":1,"external_links":0,"defined_names":0,"comments":1,"pivot_tables":1},"unopened":[],"bounds":{"document_bytes":16777216,"sheet_cells":100000,"rows_first":2000,"rows_last":500,"rows_between":2000,"halvings":0,"cell_chars":16384,"cell_head_chars":4096},"cells_cut":0,"cells_raw":0,"read":"whole","date_system":"1904"}

{"sheet":"Inputs","index":0,"n_rows":62,"n_cols":4,"rows_kept":62,"cut":false,"hidden":false,"merged":[[4,1,4,3]]}
["Instructions: "]
["1. Enter the amount of each crop you plan to store in either column below (lbs or tons). "]
["2. Then tab over to the Outputs sheet and \"Refresh\" the Pivot Table to see the results."]
[]
["Farm:","Joe's Farm"]
[]
[null,"Quantity",null,"Crop"]
[null,"lbs","tons"]
[null,null,null,"Artichoke (Globe)"]
[null,null,null,"Artichoke (Jerusalem)"]
[null,null,null,"Asparagus"]
[null,null,null,"Basil"]
[null,200,null,"Beans (dry)"]
[null,500,null,"Bean (green)"]
[null,null,null,"Bean (lima)"]
[null,null,null,"Bean (Snap)"]
[null,null,null,"Beet (bunched with tops)"]
[null,700,null,"Beet (topped)"]
[null,null,null,"Broccoli"]
[null,400,null,"Brussels Sprouts"]
[null,2000,null,"Cabage"]
[null,null,null,"Carrot (immature)"]
[null,1200,null,"Carrot (mature)"]
[null,null,null,"Cauliflower"]
[null,300,null,"Celeriac"]
[null,200,null,"Celery"]
[null,null,null,"Chard (swiss)"]
[null,null,null,"Corn (Sweet)"]
[null,null,null,"Cucumber"]
[null,null,null,"Eggplant"]
[null,null,null,"Endive"]
[null,null,null,"Escarole"]
[null,2500,null,"Garlic (intact bulbs)"]
[null,null,null,"Greens (baby greens salad mix)"]
[null,null,null,"Kale"]
[null,null,null,"Kohlrabi"]
[null,400,null,"Leeks (green)"]
[null,null,null,"Lettuce (head)"]
[null,null,null,"Melon (Cantaloupe)"]
[null,null,null,"Melon (Honeydew)"]
[null,null,null,"Melon (Watermelon)"]
[null,null,null,"Okra"]
[null,1000,null,"Onion (cured)"]
[null,null,null,"Onion (green)"]
[null,null,null,"Parsley"]
[null,2000,null,"Parsnip"]
[null,null,null,"Pea (green)"]
[null,null,null,"Peppers (hot)"]
[null,null,null,"Pepper (sweet)"]
[null,4000,null,"Potato (cured, for fresh consumption)"]
[null,null,null,"Pumpkin"]
[null,null,null,"Radish (topped, winter)"]
[null,null,null,"Rhubarb"]
[null,null,null,"Rutabega"]
[null,100,null,"Shallots"]
[null,null,null,"Spinach"]
[null,null,null,"Squash (Summer)"]
[null,9000,null,"Squash (winter)"]
[null,300,null,"Sweet Potato"]
[null,null,null,"Tomato (Mature green)"]
[null,null,null,"Tomato (firm ripe)"]
[null,null,null,"Turnip"]

{"sheet":"Outputs","index":1,"n_rows":46,"n_cols":7,"rows_kept":46,"cut":false,"hidden":false,"merged":[[7,0,7,4],[17,1,17,6],[11,0,11,6],[12,0,12,6],[13,0,13,6],[14,0,14,6]]}
["Crop Storage Planner"]
["Provided by UVM Extension Agricultural Engineering"]
["Version: 2015 08 24"]
[]
[]
["Instructions:"]
["1. Enter the amount of each crop you plan to store on the inputs sheet. "]
["2. Then \"Refresh\" the Pivot Table with the button above to see the results. Mac users will need to select \"Data\" and \"Refresh All\""]
[]
[null,null,null,null,null,null,"http://blog.uvm.edu/cwcallah"]
["NOTES:"]
["1. The crops are grouped by common temperature and humidity conditions based on data from USDA Handbook 66, Cornell University Cooperative Extension publications, and other industry sources. There are many different ways to accomlish good storage. We welcome your feedback based on actual experiences."]
["2. This tool is provided free of charge and as is.  There may be bugs.  We welcome your feedback and ideas for improvement. Email chris.callahan _at_ uvm.edu with feedback."]
["3. To determine the floor area required, consider having the product only take up 2/3 (67%) of the storage space. (i.e. divide the product volume above by 0.67). This allows open space for air circulation and also for people and product circulation.  Then take that resulting number and divide by the height of the planned cooler.  E.g., 1000 ft3 of Product Volume / 0.67 = 1,492 ft3. 1,492 ft2 / 7 ft height = 213 ft2.  Or something like a 11'x20' floor area."]
["4. Product heat production is estimated using respiration data for each crop.  This is a factor to be considered along with others in determining the cooling load required.  A refrigeration specialist and/or equipment vendor should be consulted and provided this information in addition to cooler size and intended use. A good guide for conducting an overall cooling load is available here:"]
["http://www.heatcraftrpd.com/PDF%5CMisc%5CEM.pdf"]
[]
["Farm:"]
["include",1]
[]
["Group","Crop","Lbs","Optimum Temp (ºF )","Optimum RH (%)","Group 3 Volume","Product Respiration Heat Load (BTU/hr)"]
[1,"Beet (topped)",700,33,98,30.434782608695652,16.041666666666668]
[1,"Brussels Sprouts",400,32,95,16,27.5]
[1,"Cabage",2000,32,">98",117.64705882352941,36.666666666666664]
[1,"Carrot (mature)",1200,32,">98",54.545454545454547,55]
[1,"Celeriac",300,34,98,7.1428571428571432,8.9375]
[1,"Celery",200,32,">95",6.666666666666667,13.75]
[1,"Leeks (green)",400,32,">95",11.428571428571429,27.5]
[1,"Parsnip",2000,32,">98",55.555555555555557,91.666666666666671]
["1 Sum",null,null,null,null,299.42094677133042,277.0625]
[]
[2,"Bean (green)",500,44,">95",35.714285714285715,151.25]
[2,"Potato (cured)",4000,40,95,95.238095238095241,275]
["2 Sum",null,null,null,null,130.95238095238096,426.25]
[]
[3,"Garlic (intact bulbs)",2500,31,65,83.333333333333329,137.5]
[3,"Onion (cured)",1000,32,70,28.571428571428573,13.75]
[3,"Shallots",100,32,70,2.5,1.375]
["3 Sum",null,null,null,null,114.4047619047619,152.625]
[]
[4,"Beans (dry)",200,45,"40-50",3.7037037037037037,0]
[4,"Squash (winter)",9000,50,"50-70",257.14285714285717,4125]
[4,"Sweet Potato",300,57,90,12,9.625]
["4 Sum",null,null,null,null,272.84656084656086,4134.625]
[]
["Grand Total",null,null,null,null,817.62465047503406,4990.5625]

{"sheet":"Storage Data","index":2,"n_rows":63,"n_cols":28,"rows_kept":63,"cut":false,"hidden":false,"merged":[[0,2,0,6],[0,7,0,20],[0,21,0,22]]}
[null,null,"INPUTS",null,null,null,null,"DATABASE",null,null,null,null,null,null,null,null,null,null,null,null,null,"CALCULATED OUTPUTS"]
[null,"Crop","Qty_lbs (lbs)","Qty_tons (ton)","Qty_act (ton)","lbs convert","include","Grouping #","Optimum Temp (ºF )","Temp tolerance (+ or - degrees F)","Optimum RH (%)","Duration (days)","Resp Rate (mg CO2/kg/hr)","Heat prod. (BTU/ton/day)","Ethylene Prod (uL/kg hr)","Ethylene sensitivity (uL/L)","pre-cooling temp (ºF)","pre-cooling time sensitivity (hr after harvest)","highest freezing point (ºF)","approximate lowest safe temp (ºF)","Storage Density (lb/ft3)","Volume (ft^3)","total heat prod. (BTU/hr)",null,null,{"$f":"B2","v":"Crop"},{"$f":"I2","v":"Optimum Temp (ºF )"},{"$f":"K2","v":"Optimum RH (%)"}]
[1,"None",null,null,null,null,null,0,0,0,0,0,0,0,0,0,0,0,0,0,0,0,0,null,null,{"$f":"B3","v":"None"},{"$f":"I3","v":0},{"$f":"K3","v":0}]
[2,"Artichoke (Globe)",{"$f":"Inputs!B9","v":0},{"$f":"Inputs!C9","v":0},{"$f":"IF(C4>0,C4/2000,IF(D4>0,D4,0))","v":0},{"$f":"E4*2000","v":0},{"$f":"IF(E4>0,1,0)","v":0},1,32,0,">95","14-21",16,{"$f":"M4*220","v":3520},"very low","not",41,24,29.9,null,null,{"$f":"IF(F4>0,F4/U4,0)","v":0},{"$f":"IF(E4>0,E4*N4,0)/24","v":0},null,null,"Artichoke (Globe)",32,">95"]
[3,"Artichoke (Jerusalem)",{"$f":"Inputs!B10","v":0},{"$f":"Inputs!C10","v":0},0,{"$f":"E5*2000","v":0},{"$f":"IF(E5>0,1,0)","v":0},1,32,1,"90-95","120-150",null,{"$f":"M5*220","v":0},"very low","low",null,null,28,null,40,0,{"$f":"IF(E5>0,E5*N5,0)/24","v":0},null,null,"Artichoke (Jerusalem)",32,"90-95"]
[4,"Asparagus",{"$f":"Inputs!B11","v":0},{"$f":"Inputs!C11","v":0},0,0,0,1,34,2,100,"14-21",80,{"$f":"M6*220","v":17600},3,"toughens spears",32,"immediate",30.9,"32-36",25,0,0,null,null,"Asparagus",34,100]
[5,"Basil",{"$f":"Inputs!B12","v":0},{"$f":"Inputs!C12","v":0},0,0,0,2,55,3,"90-95",14,71,{"$f":"M7*220","v":15620},"very low",null,55,null,40,null,23,0,0,null,null,"Basil",55,"90-95"]
[6,"Beans (dry)",{"$f":"Inputs!B13","v":200},{"$f":"Inputs!C13","v":0},0.1,200,1,4,45,5,"40-50","180-300",null,{"$f":"M8*220","v":0},null,null,null,null,null,null,54,3.7037037037037037,0,null,null,"Beans (dry)",45,"40-50"]
[7,"Bean (green)",{"$f":"Inputs!B14","v":500},{"$f":"Inputs!C14","v":0},0.25,500,1,2,44,1,">95","10-14",66,{"$f":"M9*220","v":14520},0.5,0.01,null,null,30.7,null,14,35.714285714285715,151.25,null,null,"Bean (green)",44,">95"]
[8,"Bean (lima)",{"$f":"Inputs!B15","v":0},{"$f":"Inputs!C15","v":0},0,0,0,4,38,4,90,7,30,{"$f":"M10*220","v":6600},null,null,null,null,31,"34-40",50,0,0,null,null,"Bean (lima)",38,90]
[9,"Bean (Snap)",{"$f":"Inputs!B16","v":0},{"$f":"Inputs!C16","v":0},0,0,0,2,44,1,">95","8-12",66,14520,0.05,0.01,null,null,30.7,45,14,0,0,null,null,"Bean (Snap)",44,">95"]
[10,"Beet (bunched with tops)",{"$f":"Inputs!B17","v":0},{"$f":"Inputs!C17","v":0},0,0,0,1,32,0,">98","10-14",5,{"$f":"M12*220","v":1100},"<.1",null,41,24,31.3,null,40,0,0,null,null,"Beet (bunched with tops)",32,">98"]
[11,"Beet (topped)",{"$f":"Inputs!B18","v":700},{"$f":"Inputs!C18","v":0},0.35,700,1,1,33,1,98,"120-300",5,1100,"<.1","not particularly",39,"4-6",30.3,null,23,30.434782608695652,16.041666666666668,null,null,"Beet (topped)",33,98]
[12,"Broccoli",{"$f":"Inputs!B19","v":0},{"$f":"Inputs!C19","v":0},0,0,0,1,32,0,">98","14-21",20,4400,"<.1","extremely",32,null,30.9,null,13,0,0,null,null,"Broccoli",32,">98"]
[13,"Brussels Sprouts",{"$f":"Inputs!B20","v":400},{"$f":"Inputs!C20","v":0},0.2,400,1,1,32,0,95,"20-30",15,3300,"<.25","sensitive",null,null,30.5,null,25,16,27.5,null,null,"Brussels Sprouts",32,95]
[14,"Cabage",{"$f":"Inputs!B21","v":2000},{"$f":"Inputs!C21","v":0},1,2000,1,1,32,0,">98","up to 150",4,880,"<.1",1,null,null,30.5,null,17,117.64705882352941,36.666666666666664,null,null,"Cabage",32,">98"]
[15,"Carrot (baby)",{"$f":"Inputs!B22","v":0},{"$f":"Inputs!C22","v":0},0,0,0,1,32,0,">98","30-40",4,880,"<.1",1,null,null,29.8,null,26,0,0,null,null,"Carrot (baby)",32,">98"]
[16,"Carrot (mature)",{"$f":"Inputs!B23","v":1200},{"$f":"Inputs!C23","v":0},0.6,1200,1,1,32,0,">98","200-270",10,2200,"<.1",0.2,41,1,29.8,null,22,54.545454545454547,55,null,null,"Carrot (mature)",32,">98"]
[17,"Cauliflower",{"$f":"Inputs!B24","v":0},{"$f":"Inputs!C24","v":0},0,0,0,1,32,0,">98","14-21",20,{"$f":"M19*220","v":4400},"<.1","extremely",32,null,30.6,null,16,0,0,null,null,"Cauliflower",32,">98"]
[18,"Celeriac",{"$f":"Inputs!B25","v":300},{"$f":"Inputs!C25","v":0},{"$f":"IF(C20>0,C20/2000,IF(D20>0,D20,0))","v":0.15},{"$f":"E20*2000","v":300},{"$f":"IF(E20>0,1,0)","v":1},1,34,2,98,"180-240",6.5,{"$f":"M20*220","v":1430},"<.1","sensitive",32,null,null,null,42,{"$f":"IF(F20>0,F20/U20,0)","v":7.1428571428571432},{"$f":"IF(E20>0,E20*N20,0)/24","v":8.9375},null,null,"Celeriac",34,98]
[19,"Celery",{"$f":"Inputs!B26","v":200},{"$f":"Inputs!C26","v":0},0.1,200,1,1,32,1,">95","37-50",15,3300,"<.1","not realy (<10)",32,1,31.1,null,30,6.666666666666667,13.75,null,null,"Celery",32,">95"]
[20,"Chard (swiss)",{"$f":"Inputs!B27","v":0},{"$f":"Inputs!C27","v":0},0,0,0,1,32,1,97,"7-14",18,{"$f":"M22*220","v":3960},13,"very high",null,null,null,null,8.5,0,0,null,null,"Chard (swiss)",32,97]
[21,"Corn (Sweet)",{"$f":"Inputs!B28","v":0},{"$f":"Inputs!C28","v":0},0,0,0,1,32,0,">98",14,40,8800,0,"not very",32,1,30.9,null,16,0,0,null,null,"Corn (Sweet)",32,">98"]
[22,"Cucumber",{"$f":"Inputs!B29","v":0},{"$f":"Inputs!C29","v":0},0,0,0,2,52,2,95,10,26,5720,"<.1","very high",null,null,31.1,45,20,0,0,null,null,"Cucumber",52,95]
[23,"Eggplant",{"$f":"Inputs!B30","v":0},{"$f":"Inputs!C30","v":0},0,0,0,2,52,1,95,10,100,22000,0.5,"moderate-high",50,1,30.6,45,null,0,0,null,null,"Eggplant",52,95]
[24,"Endive",{"$f":"Inputs!B31","v":0},{"$f":"Inputs!C31","v":0},0,0,0,1,32,0,">98","14-21",45,9900,"<.1","leaf yellowing",32,null,31.6,null,23,0,0,null,null,"Endive",32,">98"]
[25,"Escarole",{"$f":"Inputs!B32","v":0},{"$f":"Inputs!C32","v":0},0,0,0,1,32,0,">98","14-21",45,9900,"<.1","leaf yellowing",32,null,null,null,23,0,0,null,null,"Escarole",32,">98"]
[26,"Garlic (intact bulbs)",{"$f":"Inputs!B33","v":2500},{"$f":"Inputs!C33","v":0},1.25,2500,1,3,31,1,65,"250-300",12,2640,"very low","not",null,null,30,null,30,83.333333333333329,137.5,null,null,"Garlic (intact bulbs)",31,65]
[27,"Greens (baby greens salad mix)",{"$f":"Inputs!B34","v":0},{"$f":"Inputs!C34","v":0},0,0,0,1,34,2,">95","10-14",30,{"$f":"M29*220","v":6600},"very low","extremely",32,"asap",null,null,8.5,0,0,null,null,"Greens (baby greens salad mix)",34,">95"]
[28,"Kale",{"$f":"Inputs!B35","v":0},{"$f":"Inputs!C35","v":0},0,0,0,1,32,0,95,null,15,3300,"<.1","very high",null,null,31.1,null,31,0,0,null,null,"Kale",32,95]
[29,"Kohlrabi",{"$f":"Inputs!B36","v":0},{"$f":"Inputs!C36","v":0},0,0,0,1,32,0,">98","60-90",10,2200,"very low","low",null,null,30.2,null,42,0,0,null,null,"Kohlrabi",32,">98"]
[30,"Leeks (green)",{"$f":"Inputs!B37","v":400},{"$f":"Inputs!C37","v":0},0.2,400,1,1,32,1,">95","60-90",15,3300,"<.1","moderate",32,"promptly",30.7,null,35,11.428571428571429,27.5,null,null,"Leeks (green)",32,">95"]
[31,"Lettuce (head)",{"$f":"Inputs!B38","v":0},{"$f":"Inputs!C38","v":0},0,0,0,1,32,0,">98",25,20,4400,"<.1","leaf yellowing",32,null,31.6,null,25,0,0,null,null,"Lettuce (head)",32,">98"]
[32,"Melon (Cantaloupe)",{"$f":"Inputs!B39","v":0},{"$f":"Inputs!C39","v":0},0,0,0,2,38,2,95,"5-15",5,1100,10,"moderately sensitive",null,null,29.9,"36-41",25,0,0,null,null,"Melon (Cantaloupe)",38,95]
[33,"Melon (Honeydew)",{"$f":"Inputs!B40","v":0},{"$f":"Inputs!C40","v":0},0,0,0,3,45,0,"90-95","20",10,2200,20,"ripens ",null,null,30.3,45,24,0,0,null,null,"Melon (Honeydew)",45,"90-95"]
[34,"Melon (Watermelon)",{"$f":"Inputs!B41","v":0},{"$f":"Inputs!C41","v":0},0,0,0,3,55,5,90,14,10,{"$f":"M36*220","v":2200},0.5,"low","extremely",null,50,40,27,0,0,null,null,"Melon (Watermelon)",55,90]
[35,"Okra",{"$f":"Inputs!B42","v":0},{"$f":"Inputs!C42","v":0},{"$f":"IF(C37>0,C37/2000,IF(D37>0,D37,0))","v":0},0,0,3,47,2,">90","7-14",20,{"$f":"M37*220","v":4400},0.5,1,32,"asap",28.7,45,null,{"$f":"IF(F37>0,F37/U37,0)","v":0},0,null,null,"Okra",47,">90"]
[36,"Onion (cured)",{"$f":"Inputs!B43","v":1000},{"$f":"Inputs!C43","v":0},0.5,1000,1,3,32,0,70,"200-300",3,{"$f":"M38*220","v":660},"<.1","very low",null,null,30.6,null,35,28.571428571428573,13.75,null,null,"Onion (cured)",32,70]
[37,"Onion (green)",{"$f":"Inputs!B44","v":0},{"$f":"Inputs!C44","v":0},0,0,0,1,32,0,97,"20-30",3,660,"<.1","very low","<29","4-6",30.4,null,22,0,0,null,null,"Onion (green)",32,97]
[38,"Parsley",{"$f":"Inputs!B45","v":0},{"$f":"Inputs!C45","v":0},0,0,0,1,32,0,95,"60-90",30,6600,0.08,0.4,null,"rapid",30,null,null,0,0,null,null,"Parsley",32,95]
[39,"Parsnip",{"$f":"Inputs!B46","v":2000},{"$f":"Inputs!C46","v":0},1,2000,1,1,32,0,">98","200-270",10,{"$f":"M41*220","v":2200},"<.1","high",41,"immediate",30.4,null,36,55.555555555555557,91.666666666666671,null,null,"Parsnip",32,">98"]
[40,"Pea (green)",{"$f":"Inputs!B47","v":0},{"$f":"Inputs!C47","v":0},0,0,0,1,32,1,">95","7-14",40,8800,"<.1","sensitive",32,"prompt",30.9,null,23,0,0,null,null,"Pea (green)",32,">95"]
[41,"Peppers (hot)",{"$f":"Inputs!B48","v":0},{"$f":"Inputs!C48","v":0},0,0,0,4,40,8,"60-70",180,8,1760,"<.1","variety dependant",null,null,null,null,21,0,0,null,null,"Peppers (hot)",40,"60-70"]
[42,"Pepper (sweet)",{"$f":"Inputs!B49","v":0},{"$f":"Inputs!C49","v":0},0,0,0,2,50,5,95,"14-21",7,1540,"<.1","sensitive",45,"immediate",30.7,45,41,0,0,null,null,"Pepper (sweet)",50,95]
[43,"Potato (cured)",{"$f":"Inputs!B50","v":4000},{"$f":"Inputs!C50","v":0},2,4000,1,2,40,2,95,"30-360",15,3300,"<.1","not very",null,null,30.9,38,42,95.238095238095241,275,null,null,"Potato (cured)",40,95]
[44,"Pumpkin",{"$f":"Inputs!B51","v":0},{"$f":"Inputs!C51","v":0},0,0,0,4,52,2,60,"60-90",100,22000,"trace amounts","sensitive",null,null,30.5,50,35,0,0,null,null,"Pumpkin",52,60]
[45,"Radish (topped, winter)",{"$f":"Inputs!B52","v":0},{"$f":"Inputs!C52","v":0},0,0,0,1,32,1,95,"60-120",16,3520,"<.1","not particularly",35,null,null,null,null,0,0,null,null,"Radish (topped, winter)",32,95]
[46,"Rhubarb",{"$f":"Inputs!B53","v":0},{"$f":"Inputs!C53","v":0},0,0,0,1,32,0,">95","15-30",10,2200,"<.1","low",32,null,30.3,null,34,0,0,null,null,"Rhubarb",32,">95"]
[47,"Rutabega",{"$f":"Inputs!B54","v":0},{"$f":"Inputs!C54","v":0},0,0,0,1,32,0,">98","120-150",5,1100,"<.1",null,32,3,30,null,42,0,0,null,null,"Rutabega",32,">98"]
[48,"Shallots",{"$f":"Inputs!B55","v":100},{"$f":"Inputs!C55","v":0},{"$f":"IF(C50>0,C50/2000,IF(D50>0,D50,0))","v":0.05},{"$f":"E50*2000","v":100},{"$f":"IF(E50>0,1,0)","v":1},3,32,0,70,"200-300",3,{"$f":"M50*220","v":660},"<.1","very low",null,null,30.6,null,40,{"$f":"IF(F50>0,F50/U50,0)","v":2.5},{"$f":"IF(E50>0,E50*N50,0)/24","v":1.375},null,null,"Shallots",32,70]
[49,"Spinach",{"$f":"Inputs!B56","v":0},{"$f":"Inputs!C56","v":0},0,0,0,1,32,0,">98","10-14",20,4400,"<.1","rapid yellowing",null,null,31.5,null,31,0,0,null,null,"Spinach",32,">98"]
[50,"Squash (Summer)",{"$f":"Inputs!B57","v":0},{"$f":"Inputs!C57","v":0},0,0,0,4,45,2,95,"<14",25,5500,"low-moderate","increased yellowing",null,null,31.1,45,35,0,0,null,null,"Squash (Summer)",45,95]
[51,"Squash (winter)",{"$f":"Inputs!B58","v":9000},{"$f":"Inputs!C58","v":0},4.5,9000,1,4,50,0,"50-70","60-90",100,22000,"trace amounts","yellowing",null,null,30.5,45,35,257.14285714285717,4125,null,null,"Squash (winter)",50,"50-70"]
[52,"Sweet Potato",{"$f":"Inputs!B59","v":300},{"$f":"Inputs!C59","v":0},0.15,300,1,4,57,2,90,360,7,1540,"<.1","should be avoided",null,null,29.7,55,25,12,9.625,null,null,"Sweet Potato",57,90]
[53,"Tomato (Mature green)",{"$f":"Inputs!B60","v":0},{"$f":"Inputs!C60","v":0},0,0,0,2,52,2,95,"7-21",10,2200,"increases w/ ripening","causes ripening",54,null,31,55,25,0,0,null,null,"Tomato (Mature green)",52,95]
[54,"Tomato (firm ripe)",{"$f":"Inputs!B61","v":0},{"$f":"Inputs!C61","v":0},0,0,0,2,55,0,90,3,20,4400,"1-10","<.5",null,null,31.1,"45-50",21,0,0,null,null,"Tomato (firm ripe)",55,90]
[55,"Turnip",{"$f":"Inputs!B62","v":0},{"$f":"Inputs!C62","v":0},{"$f":"IF(C57>0,C57/2000,IF(D57>0,D57,0))","v":0},{"$f":"E57*2000","v":0},{"$f":"IF(E57>0,1,0)","v":0},1,32,0,">98","120-150",5,{"$f":"M57*220","v":1100},"<.1",null,32,3,30,null,42,{"$f":"IF(F57>0,F57/U57,0)","v":0},{"$f":"IF(E57>0,E57*N57,0)/24","v":0},null,null,"Turnip",32,">98"]
[]
[null,null,null,null,null,null,null,null,null,null,null,null,null,{"$f":"AVERAGE(N3:N58)","v":5166},null,null,null,null,null,null,{"$f":"AVERAGE(U3:U58)","v":27.94}]
[]
[]
[null,"Sources:",null,null,null,null,null,"cornell","handbook 66","handbook 66","handbook 66","handbook 66","handbook 66","handbook 66","handbook 66","handbook 66","handbook 66","handbook 66","handbook 66",null,"heatcraft manual"]
[null,null,null,null,null,null,null,null,null,null,null,null,null,null,null,null,null,null,null,null,"Key Technology"]